BEGIN:VCALENDAR
VERSION:2.0
PRODID:-//wp-events-plugin.com//7.0.5//EN
BEGIN:VEVENT
UID:19@lubkarnataka.org
DTSTART:20250218T040000Z
DTEND:20250218T110000Z
DTSTAMP:20250402T152541Z
URL:https://lubkarnataka.org/events/february-18-2025-industrial-visit-to-t
 vs-motor-company/
SUMMARY:February 18\, 2025: Industrial Visit to TVS Motor Company
DESCRIPTION:Continuing our member-connect initiative and sharing of Best Pr
 actices modules of top OEMs\, Laghu Udyog Bharati-Karnataka visited TVS Mo
 tors-Hosur Plant on February 18\, 2025.\n\nApart from the Assembly Line to
 ur\, LUB-K Members had the exclusive privilege to meet and personally inte
 ract with Dr. S Devarajan\, Senior Vice President\, TVS Motors Co. Ltd. on
  a array of subjects.\n\nThis was the first in the series of five industri
 al visits that LUB-K has planned to implement over the next two months.\n\
 nWe propose to take delegation Toyota\, Volvo. Ace Micromatic\, Bosch\, BF
 W and others based on the permissions.
ATTACH;FMTTYPE=image/jpeg:https://lubkarnataka.org/wp-content/uploads/2025
 /04/February-18-2025-Industrial-Visit-to-TVS-Motor-Company.png
END:VEVENT
END:VCALENDAR